Workbook

Sheet свод МР
B1: Результаты деятельности административных комиссий муниципальных образований Ленинградской области за 3 кв. 2026 г.
A2: № | B2: Район | C2: Количество проведенных заседаний | D2: Количество поступивших протоколов | G2: Количество рассмотренных протоколов | H2: Вынесено постановлений: | M2: Количество постановлений отмененных судом | N2: Количество определений об устранении причин способствующих совершению административного правонарушения | O2: Общая сумма назначенных штрафов | P2: Сумма взысканных штрафов
H3: Всего | I3: О вынесении назначения наказания в виде | K3: О прекращении производства по делу
D4: всего | E4: от должн. лиц муниципального района | F4: от должн. лиц поселений | I4: предупреждение | J4: штраф | K4: вынесено устное замечание по малозначительности | L4: отсутствует состав правонарушения
A5: 1 | B5: Бокситогорский район | C5: =Постатейно!B98 -> 19 | D5: =Постатейно!C98 -> 65 | E5: =Постатейно!D98 -> 37 | F5: =Постатейно!E98 -> 28 | G5: =Постатейно!F98 -> 65 | H5: =Постатейно!G98 -> 65 | I5: =Постатейно!H98 -> 0 | J5: =Постатейно!I98 -> 59 | ... P5: =Постатейно!O98 -> 29000
A6: 2 | B6: Волосовский район | C6: =Постатейно!B147 -> 19 | D6: =Постатейно!C147 -> 437 | E6: =Постатейно!D147 -> 123 | F6: =Постатейно!E147 -> 314 | G6: =Постатейно!F147 -> 436 | H6: =Постатейно!G147 -> 436 | I6: =Постатейно!H147 -> 44 | J6: =Постатейно!I147 -> 366 | ... P6: =Постатейно!O147 -> 391000
A7: 3 | B7: Волховский район | C7: =Постатейно!B195 -> 26 | D7: =Постатейно!C195 -> 294 | E7: =Постатейно!D195 -> 181 | F7: =Постатейно!E195 -> 113 | G7: =Постатейно!F195 -> 294 | H7: =Постатейно!G195 -> 294 | I7: =Постатейно!H195 -> 7 | J7: =Постатейно!I195 -> 287 | ... P7: =Постатейно!O195 -> 334500
A8: 4 | B8: Всеволожский район | C8: =Постатейно!B243 -> 19 | D8: =Постатейно!C243 -> 742 | E8: =Постатейно!D243 -> 41 | F8: =Постатейно!E243 -> 701 | G8: =Постатейно!F243 -> 742 | H8: =Постатейно!G243 -> 580 | I8: =Постатейно!H243 -> 98 | J8: =Постатейно!I243 -> 276 | ... P8: =Постатейно!O243 -> 464600
A9: 5 | B9: Выборгский район | C9: =Постатейно!B291 -> 21 | D9: =Постатейно!C291 -> 219 | E9: =Постатейно!D291 -> 126 | F9: =Постатейно!E291 -> 93 | G9: =Постатейно!F291 -> 219 | H9: =Постатейно!G291 -> 219 | I9: =Постатейно!H291 -> 2 | J9: =Постатейно!I291 -> 208 | ... P9: =Постатейно!O291 -> 216000
A10: 6 | B10: Гатчинский район | C10: =Постатейно!B339 -> 18 | D10: =Постатейно!C339 -> 1206 | E10: =Постатейно!D339 -> 1206 | F10: =Постатейно!E339 -> 0 | G10: =Постатейно!F339 -> 1029 | H10: =Постатейно!G339 -> 1029 | I10: =Постатейно!H339 -> 189 | J10: =Постатейно!I339 -> 694 | ... P10: =Постатейно!O339 -> 1046200
A11: 7 | B11: Кингисеппский район | C11: =Постатейно!B387 -> 14 | D11: =Постатейно!C387 -> 429 | E11: =Постатейно!D387 -> 384 | F11: =Постатейно!E387 -> 45 | G11: =Постатейно!F387 -> 429 | H11: =Постатейно!G387 -> 429 | I11: =Постатейно!H387 -> 3 | J11: =Постатейно!I387 -> 381 | ... P11: =Постатейно!O387 -> 1031000
A12: 8 | B12: Киришский район | C12: =Постатейно!B435 -> 25 | D12: =Постатейно!C435 -> 136 | E12: =Постатейно!D435 -> 124 | F12: =Постатейно!E435 -> 12 | G12: =Постатейно!F435 -> 135 | H12: =Постатейно!G435 -> 134 | I12: =Постатейно!H435 -> 1 | J12: =Постатейно!I435 -> 111 | ... P12: =Постатейно!O435 -> 97784
A13: 9 | B13: Кировский район | C13: =Постатейно!B483 -> 25 | D13: =Постатейно!C483 -> 142 | E13: =Постатейно!D483 -> 142 | F13: =Постатейно!E483 -> 0 | G13: =Постатейно!F483 -> 142 | H13: =Постатейно!G483 -> 131 | I13: =Постатейно!H483 -> 5 | J13: =Постатейно!I483 -> 118 | ... P13: =Постатейно!O483 -> 207000
A14: 10 | B14: Лодейнопольский район | C14: =Постатейно!B531 -> 18 | D14: =Постатейно!C531 -> 169 | E14: =Постатейно!D531 -> 148 | F14: =Постатейно!E531 -> 21 | G14: =Постатейно!F531 -> 168 | H14: =Постатейно!G531 -> 168 | I14: =Постатейно!H531 -> 19 | J14: =Постатейно!I531 -> 149 | ... P14: =Постатейно!O531 -> 86649
A15: 11 | B15: Ломоносовский район | C15: =Постатейно!B579 -> 23 | D15: =Постатейно!C579 -> 392 | E15: =Постатейно!D579 -> 9 | F15: =Постатейно!E579 -> 383 | G15: =Постатейно!F579 -> 391 | H15: =Постатейно!G579 -> 387 | I15: =Постатейно!H579 -> 1 | J15: =Постатейно!I579 -> 297 | ... P15: =Постатейно!O579 -> 111500
A16: 12 | B16: Лужский район | C16: =Постатейно!B627 -> 19 | D16: =Постатейно!C627 -> 111 | E16: =Постатейно!D627 -> 38 | F16: =Постатейно!E627 -> 73 | G16: =Постатейно!F627 -> 111 | H16: =Постатейно!G627 -> 101 | I16: =Постатейно!H627 -> 7 | J16: =Постатейно!I627 -> 76 | ... P16: =Постатейно!O627 -> 59000
A17: 13 | B17: Подпорожский район | C17: =Постатейно!B675 -> 18 | D17: =Постатейно!C675 -> 82 | E17: =Постатейно!D675 -> 68 | F17: =Постатейно!E675 -> 14 | G17: =Постатейно!F675 -> 82 | H17: =Постатейно!G675 -> 82 | I17: =Постатейно!H675 -> 8 | J17: =Постатейно!I675 -> 73 | ... P17: =Постатейно!O675 -> 72000
A18: 14 | B18: Приозерский район | C18: =Постатейно!B723 -> 20 | D18: =Постатейно!C723 -> 173 | E18: =Постатейно!D723 -> 62 | F18: =Постатейно!E723 -> 110 | G18: =Постатейно!F723 -> 125 | H18: =Постатейно!G723 -> 124 | I18: =Постатейно!H723 -> 2 | J18: =Постатейно!I723 -> 44 | ... P18: =Постатейно!O723 -> 33000
A19: 15 | B19: Сланцевский район | C19: =Постатейно!B771 -> 24 | D19: =Постатейно!C771 -> 205 | E19: =Постатейно!D771 -> 136 | F19: =Постатейно!E771 -> 69 | G19: =Постатейно!F771 -> 201 | H19: =Постатейно!G771 -> 201 | I19: =Постатейно!H771 -> 1 | J19: =Постатейно!I771 -> 198 | ... P19: =Постатейно!O771 -> 167500
A20: 16 | B20: Сосновоборский городской округ | C20: =Постатейно!B819 -> 15 | D20: =Постатейно!C819 -> 299 | E20: =Постатейно!D819 -> 299 | F20: =Постатейно!E819 -> 0 | G20: =Постатейно!F819 -> 20 | H20: =Постатейно!G819 -> 20 | I20: =Постатейно!H819 -> 0 | J20: =Постатейно!I819 -> 20 | ... P20: =Постатейно!O819 -> 0
A21: 17 | B21: Тихвинский район | C21: =Постатейно!B867 -> 19 | D21: =Постатейно!C867 -> 538 | E21: =Постатейно!D867 -> 524 | F21: =Постатейно!E867 -> 14 | G21: =Постатейно!F867 -> 538 | H21: =Постатейно!G867 -> 538 | I21: =Постатейно!H867 -> 6 | J21: =Постатейно!I867 -> 440 | ... P21: =Постатейно!O867 -> 322000
A22: 18 | B22: Тосненский район | C22: =Постатейно!B915 -> 17 | D22: =Постатейно!C915 -> 375 | E22: =Постатейно!D915 -> 144 | F22: =Постатейно!E915 -> 231 | G22: =Постатейно!F915 -> 375 | H22: =Постатейно!G915 -> 375 | I22: =Постатейно!H915 -> 108 | J22: =Постатейно!I915 -> 152 | ... P22: =Постатейно!O915 -> 70000
B23: Всего: | C23: =C5+C6+C7+C8+C9+C10+C11+C12+C13+C14+C15+C16+C17+C18+C19+C20+C21+C22 -> 359 | D23: =SUM(D5:D22) -> 6014 | E23: =SUM(E5:E22) -> 3792 | F23: =SUM(F5:F22) -> 2221 | G23: =SUM(G5:G22) -> 5502 | H23: =SUM(H5:H22) -> 5313 | I23: =SUM(I5:I22) -> 501 | J23: =SUM(J5:J22) -> 3949 | K23: =SUM(K5:K22) -> 146 | ... P23: =SUM(P5:P22) -> 4738733

Sheet Постатейно
A1: Результаты деятельности административных комиссий муниципальных образований Ленинградской области за 3 кв. 2026г. (постатейно)
A2: Статьи | B2: Количество проведенных заседаний | C2: Количество поступивших протоколов | F2: Количество рассмотренных протоколов | G2: Вынесено постановлений: | L2: Количество постановлений отмененных судом | M2: Количество определений об устранении причин способствующих совершению административного правонарушения | N2: Общая сумма назначенных штрафов | O2: Сумма взысканных штрафов
G3: Всего | H3: О вынесении назначения наказания в виде | J3: О прекращении производства по делу
C4: всего | D4: от должн. лиц муниципального района | E4: от должн. лиц поселений | H4: предупреждение | I4: штраф | J4: малозначительности | K4: наличие обстоятельств, искл. производство по делу
A5: Статья 2.2 Нарушение правил содержания домашних животных | C5: =C53+C102+C150+C198+C246+C294+C342+C390+C438+C486+C534+C582+C630+C678+C726+C774+C822+C870 -> 122 | D5: =D53+D102+D150+D198+D246+D294+D342+D390+D438+D486+D534+D582+D630+D678+D726+D774+D822+D870 -> 66 | E5: =E53+E102+E150+E198+E246+E294+E342+E390+E438+E486+E534+E582+E630+E678+E726+E774+E822+E870 -> 56 | F5: =F53+F102+F150+F198+F246+F294+F342+F390+F438+F486+F534+F582+F630+F678+F726+F774+F822+F870 -> 122 | G5: =G53+G102+G150+G198+G246+G294+G342+G390+G438+G486+G534+G582+G630+G678+G726+G774+G822+G870 -> 117 | H5: =H53+H102+H150+H198+H246+H294+H342+H390+H438+H486+H534+H582+H630+H678+H726+H774+H822+H870 -> 0 | I5: =I53+I102+I150+I198+I246+I294+I342+I390+I438+I486+I534+I582+I630+I678+I726+I774+I822+I870 -> 96 | J5: =J53+J102+J150+J198+J246+J294+J342+J390+J438+J486+J534+J582+J630+J678+J726+J774+J822+J870 -> 3 | ... O5: =O53+O102+O150+O198+O246+O294+O342+O390+O438+O486+O534+O582+O630+O678+O726+O774+O822+O870 -> 67000
A6: Статья 2.6 Нарушение тишины и покоя граждан | C6: =C54+C103+C151+C199+C247+C295+C343+C391+C439+C487+C535+C583+C631+C679+C727+C775+C823+C871 -> 1250 | D6: =D54+D103+D151+D199+D247+D295+D343+D391+D439+D487+D535+D583+D631+D679+D727+D775+D823+D871 -> 960 | E6: =E54+E103+E151+E199+E247+E295+E343+E391+E439+E487+E535+E583+E631+E679+E727+E775+E823+E871 -> 290 | F6: =F54+F103+F151+F199+F247+F295+F343+F391+F439+F487+F535+F583+F631+F679+F727+F775+F823+F871 -> 1188 | G6: =G54+G103+G151+G199+G247+G295+G343+G391+G439+G487+G535+G583+G631+G679+G727+G775+G823+G871 -> 1170 | H6: =H54+H103+H151+H199+H247+H295+H343+H391+H439+H487+H535+H583+H631+H679+H727+H775+H823+H871 -> 7 | I6: =I54+I103+I151+I199+I247+I295+I343+I391+I439+I487+I535+I583+I631+I679+I727+I775+I823+I871 -> 924 | J6: =J54+J103+J151+J199+J247+J295+J343+J391+J439+J487+J535+J583+J631+J679+J727+J775+J823+J871 -> 22 | ... O6: =O54+O103+O151+O199+O247+O295+O343+O391+O439+O487+O535+O583+O631+O679+O727+O775+O823+O871 -> 509543
A7: Статья 2.10 Нарушение установленных органами государственной власти Ленинградской области правил охраны жизни людей на водных объектах, расположенных на территории Ленинградской области | C7: =C55+C104+C152+C200+C248+C296+C344+C392+C440+C488+C536+C584+C632+C680+C728+C776+C824+C872 -> 1 | D7: =D55+D104+D152+D200+D248+D296+D344+D392+D440+D488+D536+D584+D632+D680+D728+D776+D824+D872 -> 0 | E7: =E55+E104+E152+E200+E248+E296+E344+E392+E440+E488+E536+E584+E632+E680+E728+E776+E824+E872 -> 1 | F7: =F55+F104+F152+F200+F248+F296+F344+F392+F440+F488+F536+F584+F632+F680+F728+F776+F824+F872 -> 1 | G7: =G55+G104+G152+G200+G248+G296+G344+G392+G440+G488+G536+G584+G632+G680+G728+G776+G824+G872 -> 1 | H7: =H55+H104+H152+H200+H248+H296+H344+H392+H440+H488+H536+H584+H632+H680+H728+H776+H824+H872 -> 0 | I7: =I55+I104+I152+I200+I248+I296+I344+I392+I440+I488+I536+I584+I632+I680+I728+I776+I824+I872 -> 1 | J7: =J55+J104+J152+J200+J248+J296+J344+J392+J440+J488+J536+J584+J632+J680+J728+J776+J824+J872 -> 0 | ... O7: =O55+O104+O152+O200+O248+O296+O344+O392+O440+O488+O536+O584+O632+O680+O728+O776+O824+O872 -> 0
A8: Статья 2.10-1 Нарушение установленного органами местного самоуправления запрета выхода граждан на ледовое покрытие водных объектов | C8: =C56+C105+C153+C201+C249+C297+C345+C393+C441+C489+C537+C585+C633+C681+C729+C777+C825+C873 -> 102 | D8: =D56+D105+D153+D201+D249+D297+D345+D393+D441+D489+D537+D585+D633+D681+D729+D777+D825+D873 -> 24 | E8: =E56+E105+E153+E201+E249+E297+E345+E393+E441+E489+E537+E585+E633+E681+E729+E777+E825+E873 -> 78 | F8: =F56+F105+F153+F201+F249+F297+F345+F393+F441+F489+F537+F585+F633+F681+F729+F777+F825+F873 -> 102 | G8: =G56+G105+G153+G201+G249+G297+G345+G393+G441+G489+G537+G585+G633+G681+G729+G777+G825+G873 -> 100 | H8: =H56+H105+H153+H201+H249+H297+H345+H393+H441+H489+H537+H585+H633+H681+H729+H777+H825+H873 -> 28 | I8: =I56+I105+I153+I201+I249+I297+I345+I393+I441+I489+I537+I585+I633+I681+I729+I777+I825+I873 -> 72 | J8: =J56+J105+J153+J201+J249+J297+J345+J393+J441+J489+J537+J585+J633+J681+J729+J777+J825+J873 -> 0 | ... O8: =O56+O105+O153+O201+O249+O297+O345+O393+O441+O489+O537+O585+O633+O681+O729+O777+O825+O873 -> 87000
A9: Статья 2.10-2 Нарушение правил использования водных объектов общего пользования для личных и бытовых нужд | C9: =C57+C106+C154+C202+C250+C298+C346+C394+C442+C490+C538+C586+C634+C682+C730+C778+C826+C874 -> 29 | D9: =D57+D106+D154+D202+D250+D298+D346+D394+D442+D490+D538+D586+D634+D682+D730+D778+D826+D874 -> 16 | E9: =E57+E106+E154+E202+E250+E298+E346+E394+E442+E490+E538+E586+E634+E682+E730+E778+E826+E874 -> 13 | F9: =F57+F106+F154+F202+F250+F298+F346+F394+F442+F490+F538+F586+F634+F682+F730+F778+F826+F874 -> 26 | G9: =G57+G106+G154+G202+G250+G298+G346+G394+G442+G490+G538+G586+G634+G682+G730+G778+G826+G874 -> 24 | H9: =H57+H106+H154+H202+H250+H298+H346+H394+H442+H490+H538+H586+H634+H682+H730+H778+H826+H874 -> 2 | I9: =I57+I106+I154+I202+I250+I298+I346+I394+I442+I490+I538+I586+I634+I682+I730+I778+I826+I874 -> 15 | J9: =J57+J106+J154+J202+J250+J298+J346+J394+J442+J490+J538+J586+J634+J682+J730+J778+J826+J874 -> 2 | ... O9: =O57+O106+O154+O202+O250+O298+O346+O394+O442+O490+O538+O586+O634+O682+O730+O778+O826+O874 -> 17200
A10: Статья 2.10-3 Нарушение правил пользования водными объектами, расположенными на территории Ленинградской области, для плавания на маломерных судах | C10: =C58+C107+C155+C203+C251+C299+C347+C395+C443+C491+C539+C587+C635+C683+C731+C779+C827+C875 -> 0 | D10: =D58+D107+D155+D203+D251+D299+D347+D395+D443+D491+D539+D587+D635+D683+D731+D779+D827+D875 -> 0 | E10: =E58+E107+E155+E203+E251+E299+E347+E395+E443+E491+E539+E587+E635+E683+E731+E779+E827+E875 -> 0 | F10: =F58+F107+F155+F203+F251+F299+F347+F395+F443+F491+F539+F587+F635+F683+F731+F779+F827+F875 -> 0 | G10: =G58+G107+G155+G203+G251+G299+G347+G395+G443+G491+G539+G587+G635+G683+G731+G779+G827+G875 -> 0 | H10: =H58+H107+H155+H203+H251+H299+H347+H395+H443+H491+H539+H587+H635+H683+H731+H779+H827+H875 -> 0 | I10: =I58+I107+I155+I203+I251+I299+I347+I395+I443+I491+I539+I587+I635+I683+I731+I779+I827+I875 -> 0 | J10: =J58+J107+J155+J203+J251+J299+J347+J395+J443+J491+J539+J587+J635+J683+J731+J779+J827+J875 -> 0 | ... O10: =O58+O107+O155+O203+O251+O299+O347+O395+O443+O491+O539+O587+O635+O683+O731+O779+O827+O875 -> 0
A11: Статья 2.10-4. Нарушение правил использования водных объектов для рекреационных целей | O11: =O59+O108+O156+O204+O252+O300+O348+O396+O444+O492+O540+O588+O636+O684+O732+O780+O828+O876 -> 0
A12: Статья 2.11 Приставание к гражданам в общественных местах | C12: =C60+C109+C157+C205+C253+C301+C349+C397+C445+C493+C541+C589+C637+C685+C733+C781+C829+C877 -> 0 | D12: =D60+D109+D157+D205+D253+D301+D349+D397+D445+D493+D541+D589+D637+D685+D733+D781+D829+D877 -> 0 | E12: =E60+E109+E157+E205+E253+E301+E349+E397+E445+E493+E541+E589+E637+E685+E733+E781+E829+E877 -> 0 | F12: =F60+F109+F157+F205+F253+F301+F349+F397+F445+F493+F541+F589+F637+F685+F733+F781+F829+F877 -> 0 | G12: =G60+G109+G157+G205+G253+G301+G349+G397+G445+G493+G541+G589+G637+G685+G733+G781+G829+G877 -> 0 | H12: =H60+H109+H157+H205+H253+H301+H349+H397+H445+H493+H541+H589+H637+H685+H733+H781+H829+H877 -> 0 | I12: =I60+I109+I157+I205+I253+I301+I349+I397+I445+I493+I541+I589+I637+I685+I733+I781+I829+I877 -> 0 | J12: =J60+J109+J157+J205+J253+J301+J349+J397+J445+J493+J541+J589+J637+J685+J733+J781+J829+J877 -> 0 | ... O12: =O60+O109+O157+O205+O253+O301+O349+O397+O445+O493+O541+O589+O637+O685+O733+O781+O829+O877 -> 0
A13: Статья 2.12 Нарушение установленных областным законом дополнительных ограничений курения табака и потребления никотинсодержащей продукции в отдельных общественных местах на территории Ленинградской области | C13: =C61+C110+C158+C206+C254+C302+C350+C398+C446+C494+C542+C590+C638+C686+C734+C782+C830+C878 -> 3 | D13: =D61+D110+D158+D206+D254+D302+D350+D398+D446+D494+D542+D590+D638+D686+D734+D782+D830+D878 -> 1 | E13: =E61+E110+E158+E206+E254+E302+E350+E398+E446+E494+E542+E590+E638+E686+E734+E782+E830+E878 -> 2 | F13: =F61+F110+F158+F206+F254+F302+F350+F398+F446+F494+F542+F590+F638+F686+F734+F782+F830+F878 -> 3 | G13: =G61+G110+G158+G206+G254+G302+G350+G398+G446+G494+G542+G590+G638+G686+G734+G782+G830+G878 -> 3 | H13: =H61+H110+H158+H206+H254+H302+H350+H398+H446+H494+H542+H590+H638+H686+H734+H782+H830+H878 -> 2 | I13: =I61+I110+I158+I206+I254+I302+I350+I398+I446+I494+I542+I590+I638+I686+I734+I782+I830+I878 -> 1 | J13: =J61+J110+J158+J206+J254+J302+J350+J398+J446+J494+J542+J590+J638+J686+J734+J782+J830+J878 -> 0 | ... O13: =O61+O110+O158+O206+O254+O302+O350+O398+O446+O494+O542+O590+O638+O686+O734+O782+O830+O878 -> 0
A14: Статья 2.14 Несоблюдение требования к размещению информации о недопустимости нахождения детей на объектах (на территориях, в помещениях), отнесенных в соответствии с областным законом к местам, в которых нахождение детей не допускается | C14: =C62+C111+C159+C207+C255+C303+C351+C399+C447+C495+C543+C591+C639+C687+C735+C783+C831+C879 -> 0 | D14: =D62+D111+D159+D207+D255+D303+D351+D399+D447+D495+D543+D591+D639+D687+D735+D783+D831+D879 -> 0 | E14: =E62+E111+E159+E207+E255+E303+E351+E399+E447+E495+E543+E591+E639+E687+E735+E783+E831+E879 -> 0 | F14: =F62+F111+F159+F207+F255+F303+F351+F399+F447+F495+F543+F591+F639+F687+F735+F783+F831+F879 -> 0 | G14: =G62+G111+G159+G207+G255+G303+G351+G399+G447+G495+G543+G591+G639+G687+G735+G783+G831+G879 -> 0 | H14: =H62+H111+H159+H207+H255+H303+H351+H399+H447+H495+H543+H591+H639+H687+H735+H783+H831+H879 -> 0 | I14: =I62+I111+I159+I207+I255+I303+I351+I399+I447+I495+I543+I591+I639+I687+I735+I783+I831+I879 -> 0 | J14: =J62+J111+J159+J207+J255+J303+J351+J399+J447+J495+J543+J591+J639+J687+J735+J783+J831+J879 -> 0 | ... O14: =O62+O111+O159+O207+O255+O303+O351+O399+O447+O495+O543+O591+O639+O687+O735+O783+O831+O879 -> 0
A15: Статья 3.3. Осуществление деятельности по продаже товаров в неустановленных местах | C15: =C63+C112+C160+C208+C256+C304+C352+C400+C448+C496+C544+C592+C640+C688+C736+C785+C832+C880 -> 116 | D15: =D63+D112+D160+D208+D256+D304+D352+D400+D448+D496+D544+D592+D640+D688+D736+D785+D832+D880 -> 84 | E15: =E63+E112+E160+E208+E256+E304+E352+E400+E448+E496+E544+E592+E640+E688+E736+E785+E832+E880 -> 32 | F15: =F63+F112+F160+F208+F256+F304+F352+F400+F448+F496+F544+F592+F640+F688+F736+F785+F832+F880 -> 116 | G15: =G63+G112+G160+G208+G256+G304+G352+G400+G448+G496+G544+G592+G640+G688+G736+G785+G832+G880 -> 113 | H15: =H63+H112+H160+H208+H256+H304+H352+H400+H448+H496+H544+H592+H640+H688+H736+H785+H832+H880 -> 1 | I15: =I63+I112+I160+I208+I256+I304+I352+I400+I448+I496+I544+I592+I640+I688+I736+I785+I832+I880 -> 100 | J15: =J63+J112+J160+J208+J256+J304+J352+J400+J448+J496+J544+J592+J640+J688+J736+J785+J832+J880 -> 12 | ... O15: =O63+O112+O160+O208+O256+O304+O352+O400+O448+O496+O544+O592+O640+O688+O736+O785+O832+O880 -> 124500
A16: Статья 3.5. Нарушение ограничений времени и мест розничной продажи алкогольной продукции, ограничений розничной продажи безалкогольных тонизирующих напитков | C16: =C64+C113+C161+C209+C257+C305+C353+C401+C449+C497+C545+C593+C641+C689+C737+C786+C833+C881 -> 3 | D16: =D64+D113+D161+D209+D257+D305+D353+D401+D449+D497+D545+D593+D641+D689+D737+D786+D833+D881 -> 3 | E16: =E64+E113+E161+E209+E257+E305+E353+E401+E449+E497+E545+E593+E641+E689+E737+E786+E833+E881 -> 0 | F16: =F64+F113+F161+F209+F257+F305+F353+F401+F449+F497+F545+F593+F641+F689+F737+F786+F833+F881 -> 3 | G16: =G64+G113+G161+G209+G257+G305+G353+G401+G449+G497+G545+G593+G641+G689+G737+G786+G833+G881 -> 0 | H16: =H64+H113+H161+H209+H257+H305+H353+H401+H449+H497+H545+H593+H641+H689+H737+H786+H833+H881 -> 0 | I16: =I64+I113+I161+I209+I257+I305+I353+I401+I449+I497+I545+I593+I641+I689+I737+I786+I833+I881 -> 0 | J16: =J64+J113+J161+J209+J257+J305+J353+J401+J449+J497+J545+J593+J641+J689+J737+J786+J833+J881 -> 0 | ... O16: =O64+O113+O161+O209+O257+O305+O353+O401+O449+O497+O545+O593+O641+O689+O737+O786+O833+O881 -> 0
A17: Статья 3.7 Размещение нестационарных торговых объектов с нарушением схемы размещения нестационарных торговых объектов | C17: =C65+C114+C162+C210+C258+C306+C354+C402+C450+C498+C546+C594+C642+C690+C738+C787+C834+C882 -> 6 | D17: =D65+D114+D162+D210+D258+D306+D354+D402+D450+D498+D546+D594+D642+D690+D738+D787+D834+D882 -> 5 | E17: =E65+E114+E162+E210+E258+E306+E354+E402+E450+E498+E546+E594+E642+E690+E738+E787+E834+E882 -> 1 | F17: =F65+F114+F162+F210+F258+F306+F354+F402+F450+F498+F546+F594+F642+F690+F738+F787+F834+F882 -> 4 | G17: =G65+G114+G162+G210+G258+G306+G354+G402+G450+G498+G546+G594+G642+G690+G738+G787+G834+G882 -> 4 | H17: =H65+H114+H162+H210+H258+H306+H354+H402+H450+H498+H546+H594+H642+H690+H738+H787+H834+H882 -> 0 | I17: =I65+I114+I162+I210+I258+I306+I354+I402+I450+I498+I546+I594+I642+I690+I738+I787+I834+I882 -> 4 | J17: =J65+J114+J162+J210+J258+J306+J354+J402+J450+J498+J546+J594+J642+J690+J738+J787+J834+J882 -> 0 | ... O17: =O65+O114+O162+O210+O258+O306+O354+O402+O450+O498+O546+O594+O642+O690+O738+O787+O834+O882 -> 8000
A18: Статья 3.8 Нарушение порядка организации ярмарок и продажи товаров на них на территории Ленинградской области | C18: =C66+C115+C163+C211+C259+C307+C355+C403+C451+C499+C547+C595+C643+C691+C739+C788+C835+C883 -> 0 | D18: =D66+D115+D163+D211+D259+D307+D355+D403+D451+D499+D547+D595+D643+D691+D739+D788+D835+D883 -> 0 | E18: =E66+E115+E163+E211+E259+E307+E355+E403+E451+E499+E547+E595+E643+E691+E739+E788+E835+E883 -> 0 | F18: =F66+F115+F163+F211+F259+F307+F355+F403+F451+F499+F547+F595+F643+F691+F739+F788+F835+F883 -> 0 | G18: =G66+G115+G163+G211+G259+G307+G355+G403+G451+G499+G547+G595+G643+G691+G739+G788+G835+G883 -> 0 | H18: =H66+H115+H163+H211+H259+H307+H355+H403+H451+H499+H547+H595+H643+H691+H739+H788+H835+H883 -> 0 | I18: =I66+I115+I163+I211+I259+I307+I355+I403+I451+I499+I547+I595+I643+I691+I739+I788+I835+I883 -> 0 | J18: =J66+J115+J163+J211+J259+J307+J355+J403+J451+J499+J547+J595+J643+J691+J739+J788+J835+J883 -> 0 | ... O18: =O66+O115+O163+O211+O259+O307+O355+O403+O451+O499+O547+O595+O643+O691+O739+O788+O835+O883 -> 0
A19: Статья 4.2 Нарушение правил содержания мест погребения и порядка деятельности кладбищ, установленных органами государственной власти Ленинградской области | C19: =C67+C116+C164+C212+C260+C308+C356+C404+C452+C500+C548+C596+C644+C692+C740+C789+C836+C884 -> 0 | D19: =D67+D116+D164+D212+D260+D308+D356+D404+D452+D500+D548+D596+D644+D692+D740+D789+D836+D884 -> 0 | E19: =E67+E116+E164+E212+E260+E308+E356+E404+E452+E500+E548+E596+E644+E692+E740+E789+E836+E884 -> 0 | F19: =F67+F116+F164+F212+F260+F308+F356+F404+F452+F500+F548+F596+F644+F692+F740+F789+F836+F884 -> 0 | G19: =G67+G116+G164+G212+G260+G308+G356+G404+G452+G500+G548+G596+G644+G692+G740+G789+G836+G884 -> 0 | H19: =H67+H116+H164+H212+H260+H308+H356+H404+H452+H500+H548+H596+H644+H692+H740+H789+H836+H884 -> 0 | I19: =I67+I116+I164+I212+I260+I308+I356+I404+I452+I500+I548+I596+I644+I692+I740+I789+I836+I884 -> 0 | J19: =J67+J116+J164+J212+J260+J308+J356+J404+J452+J500+J548+J596+J644+J692+J740+J789+J836+J884 -> 0 | ... O19: =O67+O116+O164+O212+O260+O308+O356+O404+O452+O500+O548+O596+O644+O692+O740+O789+O836+O884 -> 0
A20: Статья 4.4. Создание препятствий для вывоза мусора и уборки территории | C20: =C68+C117+C165+C213+C261+C309+C357+C405+C453+C501+C549+C597+C645+C693+C741+C790+C837+C885 -> 491 | D20: =D68+D117+D165+D213+D261+D309+D357+D405+D453+D501+D549+D597+D645+D693+D741+D790+D837+D885 -> 239 | E20: =E68+E117+E165+E213+E261+E309+E357+E405+E453+E501+E549+E597+E645+E693+E741+E790+E837+E885 -> 251 | F20: =F68+F117+F165+F213+F261+F309+F357+F405+F453+F501+F549+F597+F645+F693+F741+F790+F837+F885 -> 478 | G20: =G68+G117+G165+G213+G261+G309+G357+G405+G453+G501+G549+G597+G645+G693+G741+G790+G837+G885 -> 454 | H20: =H68+H117+H165+H213+H261+H309+H357+H405+H453+H501+H549+H597+H645+H693+H741+H790+H837+H885 -> 48 | I20: =I68+I117+I165+I213+I261+I309+I357+I405+I453+I501+I549+I597+I645+I693+I741+I790+I837+I885 -> 323 | J20: =J68+J117+J165+J213+J261+J309+J357+J405+J453+J501+J549+J597+J645+J693+J741+J790+J837+J885 -> 19 | ... O20: =O68+O117+O165+O213+O261+O309+O357+O405+O453+O501+O549+O597+O645+O693+O741+O790+O837+O885 -> 250600
A21: Статья 4.5. Нарушение требований по поддержанию эстетического состояния территорий поселений, городского округа | C21: =C69+C118+C166+C214+C262+C310+C358+C406+C454+C502+C550+C598+C646+C694+C742+C791+C838+C886 -> 403 | D21: =D69+D118+D166+D214+D262+D310+D358+D406+D454+D502+D550+D598+D646+D694+D742+D791+D838+D886 -> 336 | E21: =E69+E118+E166+E214+E262+E310+E358+E406+E454+E502+E550+E598+E646+E694+E742+E791+E838+E886 -> 67 | F21: =F69+F118+F166+F214+F262+F310+F358+F406+F454+F502+F550+F598+F646+F694+F742+F791+F838+F886 -> 341 | G21: =G69+G118+G166+G214+G262+G310+G358+G406+G454+G502+G550+G598+G646+G694+G742+G791+G838+G886 -> 340 | H21: =H69+H118+H166+H214+H262+H310+H358+H406+H454+H502+H550+H598+H646+H694+H742+H791+H838+H886 -> 212 | I21: =I69+I118+I166+I214+I262+I310+I358+I406+I454+I502+I550+I598+I646+I694+I742+I791+I838+I886 -> 98 | J21: =J69+J118+J166+J214+J262+J310+J358+J406+J454+J502+J550+J598+J646+J694+J742+J791+J838+J886 -> 8 | ... O21: =O69+O118+O166+O214+O262+O310+O358+O406+O454+O502+O550+O598+O646+O694+O742+O791+O838+O886 -> 31890
A22: Статья 4.6. Размещение объявлений, иных информационных материалов вне установленных мест | C22: =C70+C119+C167+C215+C263+C311+C359+C407+C455+C503+C551+C599+C647+C695+C743+C792+C839+C887 -> 21 | D22: =D70+D119+D167+D215+D263+D311+D359+D407+D455+D503+D551+D599+D647+D695+D743+D792+D839+D887 -> 18 | E22: =E70+E119+E167+E215+E263+E311+E359+E407+E455+E503+E551+E599+E647+E695+E743+E792+E839+E887 -> 3 | F22: =F70+F119+F167+F215+F263+F311+F359+F407+F455+F503+F551+F599+F647+F695+F743+F792+F839+F887 -> 21 | G22: =G70+G119+G167+G215+G263+G311+G359+G407+G455+G503+G551+G599+G647+G695+G743+G792+G839+G887 -> 21 | H22: =H70+H119+H167+H215+H263+H311+H359+H407+H455+H503+H551+H599+H647+H695+H743+H792+H839+H887 -> 2 | I22: =I70+I119+I167+I215+I263+I311+I359+I407+I455+I503+I551+I599+I647+I695+I743+I792+I839+I887 -> 18 | J22: =J70+J119+J167+J215+J263+J311+J359+J407+J455+J503+J551+J599+J647+J695+J743+J792+J839+J887 -> 1 | ... O22: =O70+O119+O167+O215+O263+O311+O359+O407+O455+O503+O551+O599+O647+O695+O743+O792+O839+O887 -> 11000
A23: Статья 4.6-1 Нарушение установленных органами местного самоуправления муниципальных образований Ленинградской области требований к размещению, внешнему виду и содержанию информационных конструкций | C23: =C71+C120+C168+C216+C264+C312+C360+C408+C456+C504+C552+C600+C648+C696+C744+C793+C840+C888 -> 207 | D23: =D71+D120+D168+D216+D264+D312+D360+D408+D456+D504+D552+D600+D648+D696+D744+D793+D840+D888 -> 198 | E23: =E71+E120+E168+E216+E264+E312+E360+E408+E456+E504+E552+E600+E648+E696+E744+E793+E840+E888 -> 9 | F23: =F71+F120+F168+F216+F264+F312+F360+F408+F456+F504+F552+F600+F648+F696+F744+F793+F840+F888 -> 198 | G23: =G71+G120+G168+G216+G264+G312+G360+G408+G456+G504+G552+G600+G648+G696+G744+G793+G840+G888 -> 194 | H23: =H71+H120+H168+H216+H264+H312+H360+H408+H456+H504+H552+H600+H648+H696+H744+H793+H840+H888 -> 3 | I23: =I71+I120+I168+I216+I264+I312+I360+I408+I456+I504+I552+I600+I648+I696+I744+I793+I840+I888 -> 176 | J23: =J71+J120+J168+J216+J264+J312+J360+J408+J456+J504+J552+J600+J648+J696+J744+J793+J840+J888 -> 0 | ... O23: =O71+O120+O168+O216+O264+O312+O360+O408+O456+O504+O552+O600+O648+O696+O744+O793+O840+O888 -> 623500
A24: Статья 4.7. Нанесение надписей и графических изображений вне отведенных для этих целей мест | C24: =C72+C121+C169+C217+C265+C313+C361+C409+C457+C505+C553+C601+C649+C697+C745+C794+C841+C889 -> 0 | D24: =D72+D121+D169+D217+D265+D313+D361+D409+D457+D505+D553+D601+D649+D697+D745+D794+D841+D889 -> 0 | E24: =E72+E121+E169+E217+E265+E313+E361+E409+E457+E505+E553+E601+E649+E697+E745+E794+E841+E889 -> 0 | F24: =F72+F121+F169+F217+F265+F313+F361+F409+F457+F505+F553+F601+F649+F697+F745+F794+F841+F889 -> 0 | G24: =G72+G121+G169+G217+G265+G313+G361+G409+G457+G505+G553+G601+G649+G697+G745+G794+G841+G889 -> 0 | H24: =H72+H121+H169+H217+H265+H313+H361+H409+H457+H505+H553+H601+H649+H697+H745+H794+H841+H889 -> 0 | I24: =I72+I121+I169+I217+I265+I313+I361+I409+I457+I505+I553+I601+I649+I697+I745+I794+I841+I889 -> 0 | J24: =J72+J121+J169+J217+J265+J313+J361+J409+J457+J505+J553+J601+J649+J697+J745+J794+J841+J889 -> 0 | ... O24: =O72+O121+O169+O217+O265+O313+O361+O409+O457+O505+O553+O601+O649+O697+O745+O794+O841+O889 -> 0
A25: Статья 4.8. Сидение на спинках скамеек в зонах рекреационного назначения | C25: =C73+C122+C170+C218+C266+C314+C362+C410+C458+C506+C554+C602+C650+C698+C746+C795+C842+C890 -> 1 | D25: =D73+D122+D170+D218+D266+D314+D362+D410+D458+D506+D554+D602+D650+D698+D746+D795+D842+D890 -> 0 | E25: =E73+E122+E170+E218+E266+E314+E362+E410+E458+E506+E554+E602+E650+E698+E746+E795+E842+E890 -> 1 | F25: =F73+F122+F170+F218+F266+F314+F362+F410+F458+F506+F554+F602+F650+F698+F746+F795+F842+F890 -> 1 | G25: =G73+G122+G170+G218+G266+G314+G362+G410+G458+G506+G554+G602+G650+G698+G746+G795+G842+G890 -> 1 | H25: =H73+H122+H170+H218+H266+H314+H362+H410+H458+H506+H554+H602+H650+H698+H746+H795+H842+H890 -> 1 | I25: =I73+I122+I170+I218+I266+I314+I362+I410+I458+I506+I554+I602+I650+I698+I746+I795+I842+I890 -> 0 | J25: =J73+J122+J170+J218+J266+J314+J362+J410+J458+J506+J554+J602+J650+J698+J746+J795+J842+J890 -> 0 | ... O25: =O73+O122+O170+O218+O266+O314+O362+O410+O458+O506+O554+O602+O650+O698+O746+O795+O842+O890 -> 0
A26: Статья 4.8-1 Нарушение установленных правилами благоустройства территории муниципального образования запретов на размещение (устройство) туристических и рекреационных стоянок, установку палаток, шатров, тентов на территориях муниципальных парков, садов и скверов | C26: =C74+C123+C171+C219+C267+C315+C363+C411+C459+C507+C555+C603+C651+C699+C747+C796+C843+C891 -> 0 | D26: =D74+D123+D171+D219+D267+D315+D363+D411+D459+D507+D555+D603+D651+D699+D747+D796+D843+D891 -> 0 | E26: =E74+E123+E171+E219+E267+E315+E363+E411+E459+E507+E555+E603+E651+E699+E747+E796+E843+E891 -> 0 | F26: =F74+F123+F171+F219+F267+F315+F363+F411+F459+F507+F555+F603+F651+F699+F747+F796+F843+F891 -> 0 | G26: =G74+G123+G171+G219+G267+G315+G363+G411+G459+G507+G555+G603+G651+G699+G747+G796+G843+G891 -> 0 | H26: =H74+H123+H171+H219+H267+H315+H363+H411+H459+H507+H555+H603+H651+H699+H747+H796+H843+H891 -> 0 | I26: =I74+I123+I171+I219+I267+I315+I363+I411+I459+I507+I555+I603+I651+I699+I747+I796+I843+I891 -> 0 | J26: =J74+J123+J171+J219+J267+J315+J363+J411+J459+J507+J555+J603+J651+J699+J747+J796+J843+J891 -> 0 | ... O26: =O74+O123+O171+O219+O267+O315+O363+O411+O459+O507+O555+O603+O651+O699+O747+O796+O843+O891 -> 0
... A28: Статья 4.9-1 Нарушение требований к размещению и содержанию уличной детской игровой и спортивной инфраструктуры | C28: =C76+C125+C173+C221+C269+C317+C365+C413+C461+C509+C557+C605+C653+C701+C749+C798+C845+C893 -> 9 | D28: =D76+D125+D173+D221+D269+D317+D365+D413+D461+D509+D557+D605+D653+D701+D749+D798+D845+D893 -> 2 | E28: =E76+E125+E173+E221+E269+E317+E365+E413+E461+E509+E557+E605+E653+E701+E749+E798+E845+E893 -> 7 | F28: =F76+F125+F173+F221+F269+F317+F365+F413+F461+F509+F557+F605+F653+F701+F749+F798+F845+F893 -> 9 | G28: =G76+G125+G173+G221+G269+G317+G365+G413+G461+G509+G557+G605+G653+G701+G749+G798+G845+G893 -> 9 | H28: =H76+H125+H173+H221+H269+H317+H365+H413+H461+H509+H557+H605+H653+H701+H749+H798+H845+H893 -> 3 | I28: =I76+I125+I173+I221+I269+I317+I365+I413+I461+I509+I557+I605+I653+I701+I749+I798+I845+I893 -> 3 | J28: =J76+J125+J173+J221+J269+J317+J365+J413+J461+J509+J557+J605+J653+J701+J749+J798+J845+J893 -> 0 | ... O28: =O76+O125+O173+O221+O269+O317+O365+O413+O461+O509+O557+O605+O653+O701+O749+O798+O845+O893 -> 60000
A29: Статья 4.9-2. Нарушение требований, предъявляемых к размещению некапитальных строений, сооружений | C29: =C77+C126+C174+C222+C270+C318+C366+C414+C462+C510+C558+C606+C654+C702+C750+C799+C846+C894 -> 0 | O29: =O77+O126+O174+O222+O270+O318+O366+O414+O462+O510+O558+O606+O654+O702+O750+O799+O846+O894 -> 0
A30: Статья 4.9-3. Нарушение установленных законодательством Ленинградской области порядка и условий размещения отдельных видов объектов на землях или земельных участках, находящихся в государственной или муниципальной собственности, без предоставления земельных участков и установления сервитутов, публичного сервитута | C30: =C78+C127+C175+C223+C271+C319+C367+C415+C463+C511+C559+C607+C655+C703+C751+C800+C847+C895 -> 1 | D30: =D78+D127+D175+D223+D271+D319+D367+D415+D463+D511+D559+D607+D655+D703+D751+D800+D847+D895 -> 0 | E30: =E78+E127+E175+E223+E271+E319+E367+E415+E463+E511+E559+E607+E655+E703+E751+E800+E847+E895 -> 1 | F30: =F78+F127+F175+F223+F271+F319+F367+F415+F463+F511+F559+F607+F655+F703+F751+F800+F847+F895 -> 1 | G30: =G78+G127+G175+G223+G271+G319+G367+G415+G463+G511+G559+G607+G655+G703+G751+G800+G847+G895 -> 1 | H30: =H78+H127+H175+H223+H271+H319+H367+H415+H463+H511+H559+H607+H655+H703+H751+H800+H847+H895 -> 0 | I30: =I78+I127+I175+I223+I271+I319+I367+I415+I463+I511+I559+I607+I655+I703+I751+I800+I847+I895 -> 0 | J30: =J78+J127+J175+J223+J271+J319+J367+J415+J463+J511+J559+J607+J655+J703+J751+J800+J847+J895 -> 0 | ... O30: =O78+O127+O175+O223+O271+O319+O367+O415+O463+O511+O559+O607+O655+O703+O751+O800+O847+O895 -> 0
A31: Статья 4.9-4. Нарушение порядка пользования территориями общего пользования при размещении на них средств индивидуальной мобильности | C31: =C79+C128+C176+C224+C272+C320+C368+C416+C464+C512+C560+C608+C656+C704+C752+C801+C848+C896 -> 34 | O31: =O79+O128+O176+O224+O272+O320+O368+O416+O464+O512+O560+O608+O656+O704+O752+O801+O848+O896 -> 0
A32: ч.1 статьи 4.10 Нарушение установленных органами местного самоуправления муниципальных образований Ленинградской области требований по скашиванию и уборке дикорастущей травы, корчеванию и удалению дикорастущего кустарника на землях населенных пунктов | C32: =C80+C129+C177+C225+C273+C321+C369+C417+C465+C513+C561+C609+C657+C705+C753+C802+C849+C897 -> 162 | D32: =D80+D129+D177+D225+D273+D321+D369+D417+D465+D513+D561+D609+D657+D705+D753+D802+D849+D897 -> 112 | E32: =E80+E129+E177+E225+E273+E321+E369+E417+E465+E513+E561+E609+E657+E705+E753+E802+E849+E897 -> 50 | F32: =F80+F129+F177+F225+F273+F321+F369+F417+F465+F513+F561+F609+F657+F705+F753+F802+F849+F897 -> 147 | G32: =G80+G129+G177+G225+G273+G321+G369+G417+G465+G513+G561+G609+G657+G705+G753+G802+G849+G897 -> 142 | H32: =H80+H129+H177+H225+H273+H321+H369+H417+H465+H513+H561+H609+H657+H705+H753+H802+H849+H897 -> 5 | I32: =I80+I129+I177+I225+I273+I321+I369+I417+I465+I513+I561+I609+I657+I705+I753+I802+I849+I897 -> 117 | J32: =J80+J129+J177+J225+J273+J321+J369+J417+J465+J513+J561+J609+J657+J705+J753+J802+J849+J897 -> 6 | ... O32: =O80+O129+O177+O225+O273+O321+O369+O417+O465+O513+O561+O609+O657+O705+O753+O802+O849+O897 -> 282000
A33: ч.2 статьи 4.10 Нарушение установленных органами местного самоуправления муниципальных образований Ленинградской области требований по удалению борщевика Сосновского на землях населенных пунктов | C33: =C81+C130+C178+C226+C274+C322+C370+C418+C466+C514+C562+C610+C658+C706+C754+C803+C850+C898 -> 818 | D33: =D81+D130+D178+D226+D274+D322+D370+D418+D466+D514+D562+D610+D658+D706+D754+D803+D850+D898 -> 375 | E33: =E81+E130+E178+E226+E274+E322+E370+E418+E466+E514+E562+E610+E658+E706+E754+E803+E850+E898 -> 443 | F33: =F81+F130+F178+F226+F274+F322+F370+F418+F466+F514+F562+F610+F658+F706+F754+F803+F850+F898 -> 804 | G33: =G81+G130+G178+G226+G274+G322+G370+G418+G466+G514+G562+G610+G658+G706+G754+G803+G850+G898 -> 803 | H33: =H81+H130+H178+H226+H274+H322+H370+H418+H466+H514+H562+H610+H658+H706+H754+H803+H850+H898 -> 83 | I33: =I81+I130+I178+I226+I274+I322+I370+I418+I466+I514+I562+I610+I658+I706+I754+I803+I850+I898 -> 590 | J33: =J81+J130+J178+J226+J274+J322+J370+J418+J466+J514+J562+J610+J658+J706+J754+J803+J850+J898 -> 36 | ... O33: =O81+O130+O178+O226+O274+O322+O370+O418+O466+O514+O562+O610+O658+O706+O754+O803+O850+O898 -> 301000
A34: Статья 4.11-1 Нарушение требований к внешнему виду нестационарных торговых объектов и(или) порядка его согласования | C34: =C82+C131+C179+C227+C275+C323+C371+C419+C467+C515+C563+C611+C659+C707+C755+C803+C851+C899 -> 17 | D34: =D82+D131+D179+D227+D275+D323+D371+D419+D467+D515+D563+D611+D659+D707+D755+D803+D851+D899 -> 15 | E34: =E82+E131+E179+E227+E275+E323+E371+E419+E467+E515+E563+E611+E659+E707+E755+E803+E851+E899 -> 2 | F34: =F82+F131+F179+F227+F275+F323+F371+F419+F467+F515+F563+F611+F659+F707+F755+F803+F851+F899 -> 16 | G34: =G82+G131+G179+G227+G275+G323+G371+G419+G467+G515+G563+G611+G659+G707+G755+G803+G851+G899 -> 16 | H34: =H82+H131+H179+H227+H275+H323+H371+H419+H467+H515+H563+H611+H659+H707+H755+H803+H851+H899 -> 0 | I34: =I82+I131+I179+I227+I275+I323+I371+I419+I467+I515+I563+I611+I659+I707+I755+I803+I851+I899 -> 8 | J34: =J82+J131+J179+J227+J275+J323+J371+J419+J467+J515+J563+J611+J659+J707+J755+J803+J851+J899 -> 1 | ... O34: =O82+O131+O179+O227+O275+O323+O371+O419+O467+O515+O563+O611+O659+O707+O755+O803+O851+O899 -> 20000
A35: Статья 4.11-2 Нарушение требований к содержанию, внешнему виду ограждающих конструкций зданий, строений, сооружений | C35: =C83+C132+C180+C228+C276+C324+C372+C420+C468+C516+C564+C612+C660+C708+C756+C804+C852+C900 -> 31 | D35: =D83+D132+D180+D228+D276+D324+D372+D420+D468+D516+D564+D612+D660+D708+D756+D804+D852+D900 -> 27 | E35: =E83+E132+E180+E228+E276+E324+E372+E420+E468+E516+E564+E612+E660+E708+E756+E804+E852+E900 -> 4 | F35: =F83+F132+F180+F228+F276+F324+F372+F420+F468+F516+F564+F612+F660+F708+F756+F804+F852+F900 -> 29 | G35: =G83+G132+G180+G228+G276+G324+G372+G420+G468+G516+G564+G612+G660+G708+G756+G804+G852+G900 -> 29 | H35: =H83+H132+H180+H228+H276+H324+H372+H420+H468+H516+H564+H612+H660+H708+H756+H804+H852+H900 -> 0 | I35: =I83+I132+I180+I228+I276+I324+I372+I420+I468+I516+I564+I612+I660+I708+I756+I804+I852+I900 -> 21 | J35: =J83+J132+J180+J228+J276+J324+J372+J420+J468+J516+J564+J612+J660+J708+J756+J804+J852+J900 -> 2 | ... O35: =O83+O132+O180+O228+O276+O324+O372+O420+O468+O516+O564+O612+O660+O708+O756+O804+O852+O900 -> 39000
A36: Статья 4.11-3 Нарушение требований к содержанию, внешнему виду ограждений | C36: =C84+C133+C181+C229+C277+C325+C373+C421+C469+C517+C565+C613+C661+C709+C757+C805+C853+C901 -> 15 | D36: =D84+D133+D181+D229+D277+D325+D373+D421+D469+D517+D565+D613+D661+D709+D757+D805+D853+D901 -> 10 | E36: =E84+E133+E181+E229+E277+E325+E373+E421+E469+E517+E565+E613+E661+E709+E757+E805+E853+E901 -> 5 | F36: =F84+F133+F181+F229+F277+F325+F373+F421+F469+F517+F565+F613+F661+F709+F757+F805+F853+F901 -> 15 | G36: =G84+G133+G181+G229+G277+G325+G373+G421+G469+G517+G565+G613+G661+G709+G757+G805+G853+G901 -> 14 | H36: =H84+H133+H181+H229+H277+H325+H373+H421+H469+H517+H565+H613+H661+H709+H757+H805+H853+H901 -> 0 | I36: =I84+I133+I181+I229+I277+I325+I373+I421+I469+I517+I565+I613+I661+I709+I757+I805+I853+I901 -> 12 | J36: =J84+J133+J181+J229+J277+J325+J373+J421+J469+J517+J565+J613+J661+J709+J757+J805+J853+J901 -> 0 | ... O36: =O84+O133+O181+O229+O277+O325+O373+O421+O469+O517+O565+O613+O661+O709+O757+O805+O853+O901 -> 33000
A37: Статья 4.12 Нарушение порядка проведения земляных работ | C37: =C85+C134+C182+C230+C278+C326+C374+C422+C470+C518+C566+C614+C662+C710+C758+C806+C854+C902 -> 50 | D37: =D85+D134+D182+D230+D278+D326+D374+D422+D470+D518+D566+D614+D662+D710+D758+D806+D854+D902 -> 27 | E37: =E85+E134+E182+E230+E278+E326+E374+E422+E470+E518+E566+E614+E662+E710+E758+E806+E854+E902 -> 23 | F37: =F85+F134+F182+F230+F278+F326+F374+F422+F470+F518+F566+F614+F662+F710+F758+F806+F854+F902 -> 49 | G37: =G85+G134+G182+G230+G278+G326+G374+G422+G470+G518+G566+G614+G662+G710+G758+G806+G854+G902 -> 44 | H37: =H85+H134+H182+H230+H278+H326+H374+H422+H470+H518+H566+H614+H662+H710+H758+H806+H854+H902 -> 1 | I37: =I85+I134+I182+I230+I278+I326+I374+I422+I470+I518+I566+I614+I662+I710+I758+I806+I854+I902 -> 29 | J37: =J85+J134+J182+J230+J278+J326+J374+J422+J470+J518+J566+J614+J662+J710+J758+J806+J854+J902 -> 1 | ... O37: =O85+O134+O182+O230+O278+O326+O374+O422+O470+O518+O566+O614+O662+O710+O758+O806+O854+O902 -> 54000
A38: Статья 4.13. Нарушение порядка создания и использования, в том числе на платной основе, парковок (парковочных мест), расположенных на автомобильных дорогах общего пользования регионального, межмуниципального, местного значения | C38: =C86+C135+C183+C231+C279+C327+C375+C423+C471+C519+C567+C615+C663+C711+C759+C807+C855+C903 -> 0 | D38: =D86+D135+D183+D231+D279+D327+D375+D423+D471+D519+D567+D615+D663+D711+D759+D807+D855+D903 -> 0 | E38: =E86+E135+E183+E231+E279+E327+E375+E423+E471+E519+E567+E615+E663+E711+E759+E807+E855+E903 -> 0 | F38: =F86+F135+F183+F231+F279+F327+F375+F423+F471+F519+F567+F615+F663+F711+F759+F807+F855+F903 -> 0 | G38: =G86+G135+G183+G231+G279+G327+G375+G423+G471+G519+G567+G615+G663+G711+G759+G807+G855+G903 -> 0 | H38: =H86+H135+H183+H231+H279+H327+H375+H423+H471+H519+H567+H615+H663+H711+H759+H807+H855+H903 -> 0 | I38: =I86+I135+I183+I231+I279+I327+I375+I423+I471+I519+I567+I615+I663+I711+I759+I807+I855+I903 -> 0 | J38: =J86+J135+J183+J231+J279+J327+J375+J423+J471+J519+J567+J615+J663+J711+J759+J807+J855+J903 -> 0 | ... O38: =O86+O135+O183+O231+O279+O327+O375+O423+O471+O519+O567+O615+O663+O711+O759+O807+O855+O903 -> 0
A39: Статья 4.14 Нарушение порядка или сроков уборки территории муниципального образования | C39: =C87+C136+C184+C232+C280+C328+C376+C424+C472+C520+C568+C616+C664+C712+C760+C808+C856+C904 -> 128 | D39: =D87+D136+D184+D232+D280+D328+D376+D424+D472+D520+D568+D616+D664+D712+D760+D808+D856+D904 -> 62 | E39: =E87+E136+E184+E232+E280+E328+E376+E424+E472+E520+E568+E616+E664+E712+E760+E808+E856+E904 -> 66 | F39: =F87+F136+F184+F232+F280+F328+F376+F424+F472+F520+F568+F616+F664+F712+F760+F808+F856+F904 -> 128 | G39: =G87+G136+G184+G232+G280+G328+G376+G424+G472+G520+G568+G616+G664+G712+G760+G808+G856+G904 -> 98 | H39: =H87+H136+H184+H232+H280+H328+H376+H424+H472+H520+H568+H616+H664+H712+H760+H808+H856+H904 -> 31 | I39: =I87+I136+I184+I232+I280+I328+I376+I424+I472+I520+I568+I616+I664+I712+I760+I808+I856+I904 -> 56 | J39: =J87+J136+J184+J232+J280+J328+J376+J424+J472+J520+J568+J616+J664+J712+J760+J808+J856+J904 -> 0 | ... O39: =O87+O136+O184+O232+O280+O328+O376+O424+O472+O520+O568+O616+O664+O712+O760+O808+O856+O904 -> 256000
A40: Статья 4.15 Нарушение порядка участия в содержании прилегающих территорий | C40: =C88+C137+C185+C233+C281+C329+C377+C425+C473+C521+C569+C617+C665+C713+C761+C809+C857+C905 -> 33 | D40: =D88+D137+D185+D233+D281+D329+D377+D425+D473+D521+D569+D617+D665+D713+D761+D809+D857+D905 -> 18 | E40: =E88+E137+E185+E233+E281+E329+E377+E425+E473+E521+E569+E617+E665+E713+E761+E809+E857+E905 -> 15 | F40: =F88+F137+F185+F233+F281+F329+F377+F425+F473+F521+F569+F617+F665+F713+F761+F809+F857+F905 -> 31 | G40: =G88+G137+G185+G233+G281+G329+G377+G425+G473+G521+G569+G617+G665+G713+G761+G809+G857+G905 -> 27 | H40: =H88+H137+H185+H233+H281+H329+H377+H425+H473+H521+H569+H617+H665+H713+H761+H809+H857+H905 -> 17 | I40: =I88+I137+I185+I233+I281+I329+I377+I425+I473+I521+I569+I617+I665+I713+I761+I809+I857+I905 -> 9 | J40: =J88+J137+J185+J233+J281+J329+J377+J425+J473+J521+J569+J617+J665+J713+J761+J809+J857+J905 -> 0 | ... O40: =O88+O137+O185+O233+O281+O329+O377+O425+O473+O521+O569+O617+O665+O713+O761+O809+O857+O905 -> 11000
A41: Статья 5.14 Непроведение мероприятий по удалению борщевика Сосновского | C41: =C89+C138+C186+C234+C282+C330+C378+C426+C474+C522+C570+C618+C666+C714+C762+C810+C858+C906 -> 416 | D41: =D89+D138+D186+D234+D282+D330+D378+D426+D474+D522+D570+D618+D666+D714+D762+D810+D858+D906 -> 128 | E41: =E89+E138+E186+E234+E282+E330+E378+E426+E474+E522+E570+E618+E666+E714+E762+E810+E858+E906 -> 288 | F41: =F89+F138+F186+F234+F282+F330+F378+F426+F474+F522+F570+F618+F666+F714+F762+F810+F858+F906 -> 383 | G41: =G89+G138+G186+G234+G282+G330+G378+G426+G474+G522+G570+G618+G666+G714+G762+G810+G858+G906 -> 375 | H41: =H89+H138+H186+H234+H282+H330+H378+H426+H474+H522+H570+H618+H666+H714+H762+H810+H858+H906 -> 24 | I41: =I89+I138+I186+I234+I282+I330+I378+I426+I474+I522+I570+I618+I666+I714+I762+I810+I858+I906 -> 307 | J41: =J89+J138+J186+J234+J282+J330+J378+J426+J474+J522+J570+J618+J666+J714+J762+J810+J858+J906 -> 4 | ... O41: =O89+O138+O186+O234+O282+O330+O378+O426+O474+O522+O570+O618+O666+O714+O762+O810+O858+O906 -> 480000
...

Sheet Лист1
A1: Бокситогорский район | B1: ='свод МР'!D5 -> 65 | D1: =B1-C1 -> 65
A2: Волосовский район | B2: ='свод МР'!D6 -> 437 | D2: =B2-C2 -> 437
A3: Волховский район | B3: ='свод МР'!D7 -> 294 | D3: =B3-C3 -> 294
A4: Всеволожский район | B4: ='свод МР'!D8 -> 742 | D4: =B4-C4 -> 742
A5: Выборгский район | B5: ='свод МР'!D9 -> 219 | D5: =B5-C5 -> 219
A6: Гатчинский район | B6: ='свод МР'!D10 -> 1206 | D6: =B6-C6 -> 1206
A7: Кингисеппский район | B7: ='свод МР'!D11 -> 429 | D7: =B7-C7 -> 429
A8: Киришский район | B8: ='свод МР'!D12 -> 136 | D8: =B8-C8 -> 136
A9: Кировский район | B9: ='свод МР'!D13 -> 142 | D9: =B9-C9 -> 142
A10: Лодейнопольский район | B10: ='свод МР'!D14 -> 169 | D10: =B10-C10 -> 169
A11: Ломоносовский район | B11: ='свод МР'!D15 -> 392 | D11: =B11-C11 -> 392
A12: Лужский район | B12: ='свод МР'!D16 -> 111 | D12: =B12-C12 -> 111
... A18: Тосненский район | B18: ='свод МР'!D22 -> 375 | D18: =B18-C18 -> 375
A19: Всего: | B19: тек. период | C19: Предыд. период | D19: Разница
